BEGIN:VCALENDAR
VERSION:2.0
PRODID:-//NYS Council for Community Behavioral Healthcare - ECPv5.9.1//NONSGML v1.0//EN
CALSCALE:GREGORIAN
METHOD:PUBLISH
X-WR-CALNAME:NYS Council for Community Behavioral Healthcare
X-ORIGINAL-URL:https://nyscouncil.org
X-WR-CALDESC:Events for NYS Council for Community Behavioral Healthcare
BEGIN:VTIMEZONE
TZID:UTC
BEGIN:STANDARD
TZOFFSETFROM:+0000
TZOFFSETTO:+0000
TZNAME:UTC
DTSTART:20230101T000000
END:STANDARD
END:VTIMEZONE
BEGIN:VEVENT
DTSTART;TZID=UTC:20230614T093000
DTEND;TZID=UTC:20230614T103000
DTSTAMP:20260421T061951
CREATED:20230524T171035Z
LAST-MODIFIED:20230524T171035Z
UID:9389-1686735000-1686738600@nyscouncil.org
SUMMARY:Functional Family Therapy (FFT) Webinar
DESCRIPTION:The NYS Office of Mental Health\, Department of Health\, Office of Addiction Services and Supports\, and Office of Children and Family Services are excited to announce a new project for the inclusion of Evidence-Based Practices (EBPs) within Children and Family Treatment and Supports Services (CTFSS) programs through the Center for Workforce Excellence (CWE)\, operated by the NYU McSilver Institute for Poverty Policy and Research\, which hosts CTAC\, MCTAC\, and PeerTAC. \nAn integral design element of CFTSS is the allowance for state-endorsed Evidence-Based Practices for specific interventions and services. NYS is excited to announce the introduction of select EBPs for implementation under Other Licensed Practitioner (OLP) and Community Psychiatric Supports and Treatment (CPST) within CFTSS. The goal is to offer high quality\, short-term treatment options to children\, youth\, and families to improve outcomes\, reduce length of stay\, and enhance practitioner competencies. \nFour webinars will be hosted to introduce the initiative (details and registration below): \n\nIntroduction to Evidence-Based Practices for CFTSS Providers: June 6th at 2pm\nFunctional Family Therapy (FFT): June 14th at 9:30am\nParent-Child Interaction Therapy (PCIT): June 14th at 11am\nApplication Office Hours: June 22nd at 12pm\n\nFFT Webinar\nWednesday\, June 14th\n9:30 – 10:30am ET \nLink: https://registration.nytac.org/event/?pid=8&id=1047
URL:https://nyscouncil.org/event/functional-family-therapy-fft-webinar/
END:VEVENT
BEGIN:VEVENT
DTSTART;TZID=UTC:20230614T110000
DTEND;TZID=UTC:20230614T120000
DTSTAMP:20260421T061951
CREATED:20230524T171213Z
LAST-MODIFIED:20230524T171213Z
UID:9391-1686740400-1686744000@nyscouncil.org
SUMMARY:Parent-Child Interaction Therapy (PCIT) Webinar
DESCRIPTION:The NYS Office of Mental Health\, Department of Health\, Office of Addiction Services and Supports\, and Office of Children and Family Services are excited to announce a new project for the inclusion of Evidence-Based Practices (EBPs) within Children and Family Treatment and Supports Services (CTFSS) programs through the Center for Workforce Excellence (CWE)\, operated by the NYU McSilver Institute for Poverty Policy and Research\, which hosts CTAC\, MCTAC\, and PeerTAC. \nAn integral design element of CFTSS is the allowance for state-endorsed Evidence-Based Practices for specific interventions and services. NYS is excited to announce the introduction of select EBPs for implementation under Other Licensed Practitioner (OLP) and Community Psychiatric Supports and Treatment (CPST) within CFTSS. The goal is to offer high quality\, short-term treatment options to children\, youth\, and families to improve outcomes\, reduce length of stay\, and enhance practitioner competencies. \nFour webinars will be hosted to introduce the initiative (details and registration below): \n\nIntroduction to Evidence-Based Practices for CFTSS Providers: June 6th at 2pm\nFunctional Family Therapy (FFT): June 14th at 9:30am\nParent-Child Interaction Therapy (PCIT): June 14th at 11am\nApplication Office Hours: June 22nd at 12pm\n\nParent-Child Interaction Therapy (PCIT): an evidence-based behavior parent training treatment for young children ages 2-6 with emotional and behavioral disorders that places emphasis on improving the quality of the parent-child relationship and changing parent-child interaction patterns. \nPCIT Webinar\nWednesday\, June 14th\n11am – 12pm ET \nLink: https://registration.nytac.org/event/?pid=8&id=1048
URL:https://nyscouncil.org/event/parent-child-interaction-therapy-pcit-webinar/
END:VEVENT
END:VCALENDAR