BEGIN:VCALENDAR
VERSION:2.0
PRODID:-//NYS Council for Community Behavioral Healthcare - ECPv5.9.1//NONSGML v1.0//EN
CALSCALE:GREGORIAN
METHOD:PUBLISH
X-WR-CALNAME:NYS Council for Community Behavioral Healthcare
X-ORIGINAL-URL:https://nyscouncil.org
X-WR-CALDESC:Events for NYS Council for Community Behavioral Healthcare
BEGIN:VTIMEZONE
TZID:America/New_York
BEGIN:DAYLIGHT
TZOFFSETFROM:-0500
TZOFFSETTO:-0400
TZNAME:EDT
DTSTART:20240310T070000
END:DAYLIGHT
BEGIN:STANDARD
TZOFFSETFROM:-0400
TZOFFSETTO:-0500
TZNAME:EST
DTSTART:20241103T060000
END:STANDARD
END:VTIMEZONE
BEGIN:VEVENT
DTSTART;TZID=America/New_York:20241025T100000
DTEND;TZID=America/New_York:20241025T113000
DTSTAMP:20260419T174801
CREATED:20241007T005212Z
LAST-MODIFIED:20241007T005212Z
UID:13095-1729850400-1729855800@nyscouncil.org
SUMMARY:2025 Commercial Insurance Changes Webinar: For Providers
DESCRIPTION:The New York State Office of Mental Health (OMH) and New York State Office of Addiction Services and Supports (OASAS) in partnership with the Managed Care Technical Assistance Center (MCTAC)\, are hosting a webinar to review upcoming commercial insurance reimbursement changes that will impact OMH/OASAS facilities\, effective January 1\, 2025. \n\n\n\n\nThis webinar for OMH/OASAS providers will cover: \n\n\nAn overview of the scope of the January 1 2025 Behavioral Health Commercial Rate Mandate \n\n\nAn overview of reimbursement requirements for commercial plans \n\n\nAn overview of upcoming rate changes for applicable services \n\n\nGuidance and resources\, including rates and billing information \n\n\n\n\n\n\nAudience: NYS OMH/OASAS outpatient facilities\, including billing\, compliance\, fiscal\, and revenue cycle management teams. \n\n\n\n\n\n\n\nWe encourage you to submit questions in advance to help us prepare for the webinar (please submit all questions by 10/11/24). \n\n\n\nSubmit Questions Here by 10/11/24\n\n\n\nLink: https://nyu.qualtrics.com/jfe/form/SV_cUbSMdGGOJx6jXg \n\n\n\n\nDate/Time: October 25th\, 2024\, 10:00 AM- 11:30 AM \n\n\n\nRegister Here for Webinar\n\n\n\nLink: https://registration.nytac.org/event/?pid=1&id=2369
URL:https://nyscouncil.org/event/2025-commercial-insurance-changes-webinar-for-providers/
END:VEVENT
END:VCALENDAR