BEGIN:VCALENDAR
VERSION:2.0
PRODID:-//NYS Council for Community Behavioral Healthcare - ECPv5.9.1//NONSGML v1.0//EN
CALSCALE:GREGORIAN
METHOD:PUBLISH
X-WR-CALNAME:NYS Council for Community Behavioral Healthcare
X-ORIGINAL-URL:https://nyscouncil.org
X-WR-CALDESC:Events for NYS Council for Community Behavioral Healthcare
BEGIN:VTIMEZONE
TZID:America/New_York
BEGIN:DAYLIGHT
TZOFFSETFROM:-0500
TZOFFSETTO:-0400
TZNAME:EDT
DTSTART:20250309T070000
END:DAYLIGHT
BEGIN:STANDARD
TZOFFSETFROM:-0400
TZOFFSETTO:-0500
TZNAME:EST
DTSTART:20251102T060000
END:STANDARD
END:VTIMEZONE
BEGIN:VEVENT
DTSTART;TZID=America/New_York:20250213T120000
DTEND;TZID=America/New_York:20250213T123000
DTSTAMP:20260423T110319
CREATED:20250210T212901Z
LAST-MODIFIED:20250210T212901Z
UID:14032-1739448000-1739449800@nyscouncil.org
SUMMARY:Partnership for Integrated Care Webinar on The Pediatric Symptom Checklist
DESCRIPTION: Please join The Partnership for Integrated Care’s Webinar on \nThe Pediatric Symptom Checklist\nThursday\, February 13th\, 2025\n12:00 PM – 12:30 PM \nTo register for this event\, use this link:\n \nhttps://us02web.zoom.us/meeting/register/RsjgNM0PTkiywuQPaIIdww#/registration\n\nPlease stay tuned for upcoming dates for additional learning collaborative offerings sponsored by The Partnership for Integrated Care. For technical assistance\, please email Konstantin Nadirashvili at knadirashvili@iuany.org. \n\n\n\n\n\n\n\nAbout the Training \n\n\n\n\nThe Pediatric Symptom Checklist (PSC) is a 35-item parent-report questionnaire designed to identify children and adolescents with difficulties in psychosocial functioning. Its primary purpose is to alert pediatricians at an early point about which children and adolescents would benefit from further assessment.[1] A positive result on the overall scale indicates that the child in question would benefit from further evaluation. It is not a diagnostic tool.[2] The PSC has subscales which measure inner distress and mood\, interpersonal relations and behavior\, and attention. The PSC is also used in pediatrics and other settings to measure changes in psychosocial functioning over time. Michael Jellinek\, MD\, created the PSC and has researched it over more than thirty years in collaboration with J. Michael Murphy\, Ed.D. and other investigators. The PSC has been used in more than 200 studies in the US and other countries and has been endorsed by the American Academy of Pediatrics\, the state of Massachusetts\, the government of Chile and many other organizations. \n\n\n\n\n\n\n\nMeet the Trainer: Dr. Cody Hostutler \n\n\nDr. Cody Hostutler is a pediatric primary care psychologist at Nationwide Children’s Hospital and associate professor in the department of pediatrics at The Ohio State University. Dr. Hostutler’s career is focused on improving the behavioral health (BH) care patients and families receive within their primary care medical home through practice innovation\, interprofessional education\, and research. Specifically\, he has worked within interdisciplinary teams to develop and scale innovative models of primary care integration; consult\, train\, and mentor primary care teams and medical residents on BH skills; and has co-authored a textbook supporting skills development for medical providers (Mental Health Strategies for Pediatric Care).\n\n\nThe Partnership for Integrated Care – a collaborative of InUnity Alliance and the NYS Council for Community Behavioral Healthcare\, funded by NYSOMH\, OASAS\, and the NY Community Trust\, is committed to helping behavioral health organizations around NYS to further integrate care for people with mental health\, substance use\, and medical challenges. https://www.partnershipforintegratedcare.org
URL:https://nyscouncil.org/event/partnership-for-integrated-care-webinar-on-the-pediatric-symptom-checklist/
END:VEVENT
END:VCALENDAR