BEGIN:VCALENDAR
VERSION:2.0
PRODID:-//NYS Council for Community Behavioral Healthcare - ECPv5.9.1//NONSGML v1.0//EN
CALSCALE:GREGORIAN
METHOD:PUBLISH
X-WR-CALNAME:NYS Council for Community Behavioral Healthcare
X-ORIGINAL-URL:https://nyscouncil.org
X-WR-CALDESC:Events for NYS Council for Community Behavioral Healthcare
BEGIN:VTIMEZONE
TZID:America/New_York
BEGIN:DAYLIGHT
TZOFFSETFROM:-0500
TZOFFSETTO:-0400
TZNAME:EDT
DTSTART:20250309T070000
END:DAYLIGHT
BEGIN:STANDARD
TZOFFSETFROM:-0400
TZOFFSETTO:-0500
TZNAME:EST
DTSTART:20251102T060000
END:STANDARD
END:VTIMEZONE
BEGIN:VEVENT
DTSTART;TZID=America/New_York:20250411T110000
DTEND;TZID=America/New_York:20250411T120000
DTSTAMP:20260423T150942
CREATED:20250408T160658Z
LAST-MODIFIED:20250408T160852Z
UID:14667-1744369200-1744372800@nyscouncil.org
SUMMARY:OASAS Mtg w/Comm Cunningham re: Federal Budget and Transition Updates
DESCRIPTION:NYS Office of Addiction Services and Supports \nMeeting with Commissioner Cunningham and Constituent Organizations \nFederal Budget and Transition Updates \nFriday\, April 11\, 2025 \n11:00 AM – 12:00 PM \nVirtual \n  \nPlease join Dr. Chinazo Cunningham for an update on recent federal actions that may impact OASAS and the addiction services field.  Webinar details are below. \nJoin link: https://meetny-gov.webex.com/meetny-gov/j.php?MTID=m461709812ec0d1c362d2a64ebe85b466 \nWebinar number: 2827 085 4651 \nWebinar password: nMKmFp9vU22 (66563798 when dialing from a phone or video system) \n  \nJoin by phone \n+1-929-251-9612 United States Toll (New York City) \n+1-415-527-5035 United States Toll \n  \nAccess code: 282 708 54651 \n  \n—
URL:https://nyscouncil.org/event/oasas-mtg-w-comm-cunningham-re-federal-budget-and-transition-updates/
END:VEVENT
END:VCALENDAR