BEGIN:VCALENDAR
VERSION:2.0
PRODID:-//NYS Council for Community Behavioral Healthcare - ECPv5.9.1//NONSGML v1.0//EN
CALSCALE:GREGORIAN
METHOD:PUBLISH
X-WR-CALNAME:NYS Council for Community Behavioral Healthcare
X-ORIGINAL-URL:https://nyscouncil.org
X-WR-CALDESC:Events for NYS Council for Community Behavioral Healthcare
BEGIN:VTIMEZONE
TZID:UTC
BEGIN:STANDARD
TZOFFSETFROM:+0000
TZOFFSETTO:+0000
TZNAME:UTC
DTSTART:20260101T000000
END:STANDARD
END:VTIMEZONE
BEGIN:VEVENT
DTSTART;TZID=UTC:20260513T090000
DTEND;TZID=UTC:20260513T100000
DTSTAMP:20260423T084711
CREATED:20260421T154720Z
LAST-MODIFIED:20260421T154720Z
UID:17269-1778662800-1778666400@nyscouncil.org
SUMMARY:MCTAC 3rd Annual Documentation Event
DESCRIPTION:The Managed Care Technical Assistance Center (MCTAC) is excited to invite you to our 3rd Annual Documentation Event.\n\n\n\nThis event is designed to help behavioral health providers navigate documentation best-practices\, understand emerging trends\, and identify effective documentation practices. Providers will have the opportunity to hear from representatives from OMH and OASAS on state-level documentation expectations as well as an opportunity to connect with EHR vendors to explore system capabilities\, ask questions\, and become familiar with solutions that support efficient\, compliant documentation.\n\n\n\nAudience:\n\n\n\n·       OMH and OASAS certified\, designated\, or funded behavioral health outpatient programs are welcome to attend.\n\n\n\nDate: May 13th\, 2026\n\n\n\n9am-10am: Breakfast\n\n\n\n10am-3pm: Event Programming\n\n\n\nEvent Location: Marriott Albany Hotel\n\n\n\nAddress: 189 Wolf Rd\, Albany\, NY 12205\n\n\n\n\n\nLink: https://registration.nytac.org/event/?pid=10&id=5090\n\n\n\nPlease use this survey below to submit your questions in advance so that we may review and tailor our event based on what would be most helpful.\n\n\n\n\n\nLink: https://nyu.qualtrics.com/jfe/form/SV_79EMEgavLORC4Pc\n\n\n\n 
URL:https://nyscouncil.org/event/mctac-3rd-annual-documentation-event/
END:VEVENT
END:VCALENDAR