BEGIN:VCALENDAR
VERSION:2.0
PRODID:-//NYS Council for Community Behavioral Healthcare - ECPv5.9.1//NONSGML v1.0//EN
CALSCALE:GREGORIAN
METHOD:PUBLISH
X-WR-CALNAME:NYS Council for Community Behavioral Healthcare
X-ORIGINAL-URL:https://nyscouncil.org
X-WR-CALDESC:Events for NYS Council for Community Behavioral Healthcare
BEGIN:VTIMEZONE
TZID:America/New_York
BEGIN:DAYLIGHT
TZOFFSETFROM:-0500
TZOFFSETTO:-0400
TZNAME:EDT
DTSTART:20250309T070000
END:DAYLIGHT
BEGIN:STANDARD
TZOFFSETFROM:-0400
TZOFFSETTO:-0500
TZNAME:EST
DTSTART:20251102T060000
END:STANDARD
END:VTIMEZONE
BEGIN:VEVENT
DTSTART;TZID=America/New_York:20250311T120000
DTEND;TZID=America/New_York:20250311T133000
DTSTAMP:20260421T084921
CREATED:20250304T012848Z
LAST-MODIFIED:20250304T012848Z
UID:14285-1741694400-1741699800@nyscouncil.org
SUMMARY:DEI Insights and Practical Guidance for Nonprofits
DESCRIPTION:DEI Insights and Practical Guidance for Nonprofits \nTuesday\, March 11\, 12:00 – 1:30 pm \n  \nJoin us for a virtual program for nonprofit leaders on key developments in DEI policies and programs following recent Executive Orders from the current administration. \nThis session is presented in partnership with Simpson Thacher\, New York Lawyers for the Public Interest\, Human Services Council\, and Nonprofit New York.
URL:https://nyscouncil.org/event/dei-insights-and-practical-guidance-for-nonprofits/
END:VEVENT
BEGIN:VEVENT
DTSTART;TZID=America/New_York:20250325T130000
DTEND;TZID=America/New_York:20250325T140000
DTSTAMP:20260421T084921
CREATED:20250319T185517Z
LAST-MODIFIED:20250319T185517Z
UID:14443-1742907600-1742911200@nyscouncil.org
SUMMARY:OASAS Meeting with the Providers - Federal Budget and Transition Updates
DESCRIPTION:It is my understanding that this call for OASAS providers will focus on federal budget updates as well as federal administrative transitions and how they could impact OASAS providers. \nOASAS Meeting with the Providers – Federal Budget and Transition Updates \nTuesday\, March 25th 1:00-2:00 \n  \nJoin link: https://meetny-gov.webex.com/meetny-gov/j.php?MTID=m58d281feaa8ecfe6191a1f441e9c99e3 \n  \nWebinar number: 2822 896 8186 \n  \nWebinar password:\nj3rPEhnAu85 (53773462 when dialing from a phone or video system) \n  \nJoin by phone \n+1-929-251-9612 United States Toll (New York City) \n+1-415-527-5035 United States Toll \n  \nAccess code: 282 289 68186
URL:https://nyscouncil.org/event/oasas-meeting-with-the-providers-federal-budget-and-transition-updates/
END:VEVENT
END:VCALENDAR