BEGIN:VCALENDAR
VERSION:2.0
PRODID:-//NYS Council for Community Behavioral Healthcare - ECPv5.9.1//NONSGML v1.0//EN
CALSCALE:GREGORIAN
METHOD:PUBLISH
X-WR-CALNAME:NYS Council for Community Behavioral Healthcare
X-ORIGINAL-URL:https://nyscouncil.org
X-WR-CALDESC:Events for NYS Council for Community Behavioral Healthcare
BEGIN:VTIMEZONE
TZID:America/New_York
BEGIN:DAYLIGHT
TZOFFSETFROM:-0500
TZOFFSETTO:-0400
TZNAME:EDT
DTSTART:20220313T070000
END:DAYLIGHT
BEGIN:STANDARD
TZOFFSETFROM:-0400
TZOFFSETTO:-0500
TZNAME:EST
DTSTART:20221106T060000
END:STANDARD
END:VTIMEZONE
BEGIN:VEVENT
DTSTART;TZID=America/New_York:20220707T160000
DTEND;TZID=America/New_York:20220707T170000
DTSTAMP:20260424T132926
CREATED:20220705T151606Z
LAST-MODIFIED:20220705T165234Z
UID:6258-1657209600-1657213200@nyscouncil.org
SUMMARY:Advancing Behavioral Health Equity: Integration of the National CLAS Standards in Service Delivery
DESCRIPTION:The intent of the National Culturally and Linguistically Appropriate Standards (NCLAS) is to improve the quality of care\, help eliminate health care disparities\, and advance health equity by establishing a blueprint for health and healthcare organizations to implement culturally and linguistically appropriate services. \nMore than two decades after the release of the original CLAS Standards\, and eight years since the enhanced National CLAS Standards were published\, there is still much work to be done. Racial/ethnic disparities in health and health care remain a public health challenge\, despite advances in health care technology and new delivery systems\, and even when factors such as health insurance coverage\, income\, and educational level are taken into consideration. \nBy providing standards and specific action steps to implement culturally and linguistically appropriate services\, the enhanced NCLAS can improve an organization’s ability to address behavioral health care disparities. \nCome inform your service delivery\, agency approach and improve clinical outcomes by: \n–       Expanding and deepening your understanding of the NCLAS \n–       Discovering ways to improve access to care\, promote quality and reduce disparities \n–       Learning about resources to further implement these in your work \nFacilitated by Dr. Suganya Sockalingam & Scott van Loo\, this webinar will provide a foundational understanding of the NCLAS and its three themes: \n–       Governance and Leadership \n–       Communication and Language Assistance \n–       Accountability\, Quality Improvement and Community Engagement \nHosted in collaboration with the Pacific Southwest MHTTC.
URL:https://nyscouncil.org/event/advancing-behavioral-health-equity-integration-of-the-national-clas-standards-in-service-delivery/
END:VEVENT
END:VCALENDAR