BEGIN:VCALENDAR
VERSION:2.0
PRODID:-//NYS Council for Community Behavioral Healthcare - ECPv5.9.1//NONSGML v1.0//EN
CALSCALE:GREGORIAN
METHOD:PUBLISH
X-WR-CALNAME:NYS Council for Community Behavioral Healthcare
X-ORIGINAL-URL:https://nyscouncil.org
X-WR-CALDESC:Events for NYS Council for Community Behavioral Healthcare
BEGIN:VTIMEZONE
TZID:America/New_York
BEGIN:DAYLIGHT
TZOFFSETFROM:-0500
TZOFFSETTO:-0400
TZNAME:EDT
DTSTART:20220313T070000
END:DAYLIGHT
BEGIN:STANDARD
TZOFFSETFROM:-0400
TZOFFSETTO:-0500
TZNAME:EST
DTSTART:20221106T060000
END:STANDARD
END:VTIMEZONE
BEGIN:VEVENT
DTSTART;TZID=America/New_York:20221114T150000
DTEND;TZID=America/New_York:20221114T160000
DTSTAMP:20260424T132131
CREATED:20221110T174849Z
LAST-MODIFIED:20221110T174849Z
UID:7459-1668438000-1668441600@nyscouncil.org
SUMMARY:Coalition of Human Needs Webinar: The Election - What\, Why\, and What's Next
DESCRIPTION:The Election: What\, Why\, and What’s Next \nWebinar: Monday\, November 14th \n3 p.m. ET/2 p.m. CT/1 p.m. MT/12 p.m. PT \nRegister here \nThe results of the 2022 midterm election are still coming in\, and it’s likely we won’t know the final balance in Congress for some time. But no matter the outcome of yesterday’s election\, it is clear there will be a critical role for advocacy at the Federal level. \nOn Monday\, the Coalition on Human Needs will hold a special post-election webinar to lay out what we believe human needs advocates should know about the next Congress and strategies we need to protect the policies and programs that people with low incomes need. Join us to learn more about the likely Congressional lay-of-the-land\, get important opportunities for action in the lame duck session\, and find out what messages resonated with voters and how those messages can be effectively utilized in the future. Our speakers will include: \n\nCelinda Lake – Nationally known pollster; President\, Lake Research Partners\nEllen Nissenbaum – Vice President for Government Affairs\, Center on Budget and Policy Priorities\nDeborah Weinstein – Executive Director\, Coalition on Human Needs\nModerator: Ellen Teller – Chief Government Affairs Officer\, Food Research & Action Center\n\nThis webinar will be close captioned. Even if you can’t attend be sure to sign up to receive a captioned recording of the webinar and important resources from our speakers. \nRegister here \nIf you have questions or difficulties with the registration form please contact Nicolai Haddal: nhaddal@chn.org.
URL:https://nyscouncil.org/event/coalition-of-human-needs-webinar-the-election-what-why-and-whats-next/
END:VEVENT
END:VCALENDAR