BEGIN:VCALENDAR
VERSION:2.0
PRODID:-//NYS Council for Community Behavioral Healthcare - ECPv5.9.1//NONSGML v1.0//EN
CALSCALE:GREGORIAN
METHOD:PUBLISH
X-WR-CALNAME:NYS Council for Community Behavioral Healthcare
X-ORIGINAL-URL:https://nyscouncil.org
X-WR-CALDESC:Events for NYS Council for Community Behavioral Healthcare
BEGIN:VTIMEZONE
TZID:America/New_York
BEGIN:DAYLIGHT
TZOFFSETFROM:-0500
TZOFFSETTO:-0400
TZNAME:EDT
DTSTART:20250309T070000
END:DAYLIGHT
BEGIN:STANDARD
TZOFFSETFROM:-0400
TZOFFSETTO:-0500
TZNAME:EST
DTSTART:20251102T060000
END:STANDARD
END:VTIMEZONE
BEGIN:VEVENT
DTSTART;TZID=America/New_York:20250227T113000
DTEND;TZID=America/New_York:20250227T130000
DTSTAMP:20260421T114726
CREATED:20250225T200143Z
LAST-MODIFIED:20250225T200215Z
UID:14244-1740655800-1740661200@nyscouncil.org
SUMMARY:Community Mental Health Loan Repayment Program Round 5 Webinar
DESCRIPTION:The state Office of Mental Health and state Office of Children and Family Services will host the first of two guidance webinars for Round 5 of the Community Mental Health Loan Repayment Program at 11:30 a.m. on Thursday\, Feb. 27. \nThe Community Mental Health Loan Repayment Program Round 5 supports community providers that offer direct care mental health services in the recruitment and retention of eligible licensed professionals serving children and/or adolescents. For eligible programs\, the Community Mental Health Loan Repayment Program is awarding state aid for loan repayment for both eligible existing workers and those who have been newly hired. Eligible positions include: \n\nLicensed master social workers\n• Licensed clinical social workers\n• Licensed mental health counselors\n• Licensed marriage and family therapists\n• Licensed creative arts therapists\n• Licensed psychoanalysts\n• Licensed psychologists\n\nOMH and OCFS will use the webinar to discuss the program’s background and overview\, walk through the application process\, and answer relevant questions. Register for this webinar.
URL:https://nyscouncil.org/event/community-mental-health-loan-repayment-program-round-5-webinar/
END:VEVENT
END:VCALENDAR