BEGIN:VCALENDAR
VERSION:2.0
PRODID:-//NYS Council for Community Behavioral Healthcare - ECPv5.9.1//NONSGML v1.0//EN
CALSCALE:GREGORIAN
METHOD:PUBLISH
X-WR-CALNAME:NYS Council for Community Behavioral Healthcare
X-ORIGINAL-URL:https://nyscouncil.org
X-WR-CALDESC:Events for NYS Council for Community Behavioral Healthcare
BEGIN:VTIMEZONE
TZID:America/New_York
BEGIN:DAYLIGHT
TZOFFSETFROM:-0500
TZOFFSETTO:-0400
TZNAME:EDT
DTSTART:20210314T070000
END:DAYLIGHT
BEGIN:STANDARD
TZOFFSETFROM:-0400
TZOFFSETTO:-0500
TZNAME:EST
DTSTART:20211107T060000
END:STANDARD
END:VTIMEZONE
BEGIN:VEVENT
DTSTART;TZID=America/New_York:20211005T143000
DTEND;TZID=America/New_York:20211005T160000
DTSTAMP:20260424T091901
CREATED:20210922T153240Z
LAST-MODIFIED:20210922T154204Z
UID:3667-1633444200-1633449600@nyscouncil.org
SUMMARY:CORE Services Implementation Overview
DESCRIPTION:October 5\, 2021\, 2:30 pm- 4:00 pm: CORE Services Implementation Overview \no   Audience: BH HCBS Program Staff \no   Description: NYS OMH and OASAS will offer a detailed presentation on the CORE Services implementation plan.
URL:https://nyscouncil.org/event/core-services-implementation-overview/
END:VEVENT
END:VCALENDAR