BEGIN:VCALENDAR
VERSION:2.0
PRODID:-//NYS Council for Community Behavioral Healthcare - ECPv5.9.1//NONSGML v1.0//EN
CALSCALE:GREGORIAN
METHOD:PUBLISH
X-WR-CALNAME:NYS Council for Community Behavioral Healthcare
X-ORIGINAL-URL:https://nyscouncil.org
X-WR-CALDESC:Events for NYS Council for Community Behavioral Healthcare
BEGIN:VTIMEZONE
TZID:America/New_York
BEGIN:DAYLIGHT
TZOFFSETFROM:-0500
TZOFFSETTO:-0400
TZNAME:EDT
DTSTART:20210314T070000
END:DAYLIGHT
BEGIN:STANDARD
TZOFFSETFROM:-0400
TZOFFSETTO:-0500
TZNAME:EST
DTSTART:20211107T060000
END:STANDARD
END:VTIMEZONE
BEGIN:VEVENT
DTSTART;TZID=America/New_York:20211029T153000
DTEND;TZID=America/New_York:20211029T170000
DTSTAMP:20260423T122040
CREATED:20211027T182034Z
LAST-MODIFIED:20211027T182127Z
UID:3914-1635521400-1635526800@nyscouncil.org
SUMMARY:HHS Overdose Prevention Strategy Briefing
DESCRIPTION:Health and Human Services Secretary Xavier Becerra today announced the release of the new HHS Overdose Prevention Strategy\, designed to increase access to the full range of care and services for individuals who use substances that cause overdose\, and their families.  This new strategy focuses on the multiple substances involved in overdose and the diverse treatment approaches for substance use disorder. \nTo further discuss the Overdose Prevention Strategy\, the HHS Office of Intergovernmental and External Affairs invites you to join us on Friday\, October 29 at 3:30 PM ET for a Stakeholder Briefing. \nThe Stakeholder Briefing will include remarks from: \n\nCounselor to the HHS Secretary\, Rachel Pryor\nHHS Acting Assistant Secretary for Planning and Evaluation\, Dr. Rebecca Haffajee\nCenters for Disease Control and Prevention (CDC) Acting Director of the National Center for Injury Prevention and Control\, Dr. Chris Jones\nNational Institutes of Health (NIH) Deputy Director of the National Institute on Drug Abuse (NIDA)\, Dr. Wilson Compton\nSubstance Abuse and Mental Health Services Administration (SAMHSA) Administrator\, Dr. Miriam Delphin-Rittmon\nCenters for Medicare and Medicaid Services (CMS) Deputy Chief Medical Officer\, Dr. Shari Ling\nHHS Director of the Office of Intergovernmental and External Affairs\, Marvin Figueroa\n\nPlease register for the Stakeholder Briefing at this link: \nhttps://www.zoomgov.com/webinar/register/WN_RwFWZ-QSTTC62PA5gHQHhQ
URL:https://nyscouncil.org/event/hhs-overdose-prevention-strategy-briefing/
END:VEVENT
END:VCALENDAR