BEGIN:VCALENDAR
VERSION:2.0
PRODID:-//NYS Council for Community Behavioral Healthcare - ECPv5.9.1//NONSGML v1.0//EN
CALSCALE:GREGORIAN
METHOD:PUBLISH
X-WR-CALNAME:NYS Council for Community Behavioral Healthcare
X-ORIGINAL-URL:https://nyscouncil.org
X-WR-CALDESC:Events for NYS Council for Community Behavioral Healthcare
BEGIN:VTIMEZONE
TZID:America/New_York
BEGIN:DAYLIGHT
TZOFFSETFROM:-0500
TZOFFSETTO:-0400
TZNAME:EDT
DTSTART:20210314T070000
END:DAYLIGHT
BEGIN:STANDARD
TZOFFSETFROM:-0400
TZOFFSETTO:-0500
TZNAME:EST
DTSTART:20211107T060000
END:STANDARD
END:VTIMEZONE
BEGIN:VEVENT
DTSTART;TZID=America/New_York:20210715T110000
DTEND;TZID=America/New_York:20210715T120000
DTSTAMP:20260425T102052
CREATED:20210702T150337Z
LAST-MODIFIED:20210702T150337Z
UID:3138-1626346800-1626350400@nyscouncil.org
SUMMARY:Increasing Financial Sustainability through Endowments and Philanthropy
DESCRIPTION:Financial sustainability is fundamental to your organization’s ability to carry out its mission and continue to serve the community for many years to come.\n\nOn July 15\, join Grassi’s Nonprofit advisors and special guest\, Walter Dillingham\, to explore how endowments and expanded philanthropic efforts can help your organization achieve greater impact\, recover from COVID-19 losses and rebuild with a more sustainable financial model. Topics of conversation will include:\n\n\nEndowment concepts and best practices\nTypes of endowments and benefits for utilization within your organization\nStrategies for navigating the changing landscape of endowments\nApproaches for growing your endowment portfolio
URL:https://nyscouncil.org/event/increasing-financial-sustainability-through-endowments-and-philanthropy/
END:VEVENT
END:VCALENDAR