BEGIN:VCALENDAR
VERSION:2.0
PRODID:-//NYS Council for Community Behavioral Healthcare - ECPv5.9.1//NONSGML v1.0//EN
CALSCALE:GREGORIAN
METHOD:PUBLISH
X-WR-CALNAME:NYS Council for Community Behavioral Healthcare
X-ORIGINAL-URL:https://nyscouncil.org
X-WR-CALDESC:Events for NYS Council for Community Behavioral Healthcare
BEGIN:VTIMEZONE
TZID:America/New_York
BEGIN:DAYLIGHT
TZOFFSETFROM:-0500
TZOFFSETTO:-0400
TZNAME:EDT
DTSTART:20220313T070000
END:DAYLIGHT
BEGIN:STANDARD
TZOFFSETFROM:-0400
TZOFFSETTO:-0500
TZNAME:EST
DTSTART:20221106T060000
END:STANDARD
END:VTIMEZONE
BEGIN:VEVENT
DTSTART;TZID=America/New_York:20220224T140000
DTEND;TZID=America/New_York:20220224T150000
DTSTAMP:20260420T192348
CREATED:20220222T174514Z
LAST-MODIFIED:20220222T175131Z
UID:5067-1645711200-1645714800@nyscouncil.org
SUMMARY:Innovations in Telehealth in Mental Health and Substance Use During COVID-19
DESCRIPTION:The COVID-19 pandemic intensified mental health and substance use needs in the United States\, disproportionately and negatively impacting certain populations. While the swift and unexpected pivot to telehealth services for treatment of mental illness and substance use disorder filled gaps in care\, providers have continued to grapple with the implications. What’s working? What isn’t? What creative solutions have emerged? What barriers to quality care remain and how can we continue to reduce them? \nJoin the National Council for the “Innovations in Telehealth in Mental Health and Substance Use During COVID-19\,” webinar on Thursday\, February 24\, 2-3 p.m. ET: \n\nHear takeaways from providers on their major successes during the shift to telehealth.\nLearn innovations for overcoming common barriers to care.\nExamine how the efficacy of telehealth services for mental health and substance use has differed among various populations.\nExplore future considerations\, including health equity\, technology challenges\, needs of special populations and rising provider burnout.
URL:https://nyscouncil.org/event/innovations-in-telehealth-in-mental-health-and-substance-use-during-covid-19/
END:VEVENT
END:VCALENDAR