BEGIN:VCALENDAR
VERSION:2.0
PRODID:-//NYS Council for Community Behavioral Healthcare - ECPv5.9.1//NONSGML v1.0//EN
CALSCALE:GREGORIAN
METHOD:PUBLISH
X-WR-CALNAME:NYS Council for Community Behavioral Healthcare
X-ORIGINAL-URL:https://nyscouncil.org
X-WR-CALDESC:Events for NYS Council for Community Behavioral Healthcare
BEGIN:VTIMEZONE
TZID:America/New_York
BEGIN:DAYLIGHT
TZOFFSETFROM:-0500
TZOFFSETTO:-0400
TZNAME:EDT
DTSTART:20220313T070000
END:DAYLIGHT
BEGIN:STANDARD
TZOFFSETFROM:-0400
TZOFFSETTO:-0500
TZNAME:EST
DTSTART:20221106T060000
END:STANDARD
END:VTIMEZONE
BEGIN:VEVENT
DTSTART;TZID=America/New_York:20221207T090000
DTEND;TZID=America/New_York:20221207T120000
DTSTAMP:20260424T161203
CREATED:20221116T172313Z
LAST-MODIFIED:20221116T172805Z
UID:7527-1670403600-1670414400@nyscouncil.org
SUMMARY:NYS Council Members Only Contracting Series - Part I
DESCRIPTION:This is a highly specific two part series for anyone in your agency who is in any way responsible for contracting with payers.\n\nSAVE THE DATES and watch for registration details:\nPart 1 – December 7 from 9-12\nPart II – December 14 from 9-12 \n\nBoth trainings will take place via Zoom.   Stay tuned for an agenda and registration information.
URL:https://nyscouncil.org/event/nys-council-members-only-contracting-webinar-part-i/
END:VEVENT
END:VCALENDAR