BEGIN:VCALENDAR
VERSION:2.0
PRODID:-//NYS Council for Community Behavioral Healthcare - ECPv5.9.1//NONSGML v1.0//EN
CALSCALE:GREGORIAN
METHOD:PUBLISH
X-WR-CALNAME:NYS Council for Community Behavioral Healthcare
X-ORIGINAL-URL:https://nyscouncil.org
X-WR-CALDESC:Events for NYS Council for Community Behavioral Healthcare
BEGIN:VTIMEZONE
TZID:America/New_York
BEGIN:DAYLIGHT
TZOFFSETFROM:-0500
TZOFFSETTO:-0400
TZNAME:EDT
DTSTART:20250309T070000
END:DAYLIGHT
BEGIN:STANDARD
TZOFFSETFROM:-0400
TZOFFSETTO:-0500
TZNAME:EST
DTSTART:20251102T060000
END:STANDARD
END:VTIMEZONE
BEGIN:VEVENT
DTSTART;TZID=America/New_York:20250721T160000
DTEND;TZID=America/New_York:20250721T170000
DTSTAMP:20260425T145146
CREATED:20250721T173503Z
LAST-MODIFIED:20250721T173503Z
UID:15668-1753113600-1753117200@nyscouncil.org
SUMMARY:OASAS Webinar with Commissioner Cunningham
DESCRIPTION:NYS Office of Addiction Services and Support \nWebinar with Commissioner Cunningham \nFederal Update \nMonday\, July 21\, 2025 \n4:00 PM – 5:00 PM \n  \n  \nPlease join me for a special OASAS Town Hall on Monday\, July 21\, 2025 at 4:00pm for an update on the recently signed federal reconciliation bill\, which includes significant changes to Medicaid and other health and social service programs. (Note from Lauri:  It does not appear that there is any pre-registration required. ) \nDuring the webinar\, attendees will be off-screen and muted but can ask questions and share comments through the chat feature. \n  \n­ \nWebinar topic: Special OASAS Town Hall: Federal Update \n\nDate and time: Monday\, July 21\, 2025 4:00 PM \n\nJoin link: https://meetny-gov.webex.com/meetny-gov/j.php?MTID=m16da9a3b9bafa66721b5a90a8aaf5dce \n\nWebinar number: 2819 642 4708 \nWebinar password:  439Zfyb3JMh (43993923 when dialing from a phone or video system) \n\nJoin by phone \n+1-929-251-9612 United States Toll (New York City) \n+1-415-527-5035 United States Toll \nAccess code: 281 964 24708
URL:https://nyscouncil.org/event/oasas-webinar-with-commissioner-cunningham/
END:VEVENT
END:VCALENDAR