BEGIN:VCALENDAR
VERSION:2.0
PRODID:-//NYS Council for Community Behavioral Healthcare - ECPv5.9.1//NONSGML v1.0//EN
CALSCALE:GREGORIAN
METHOD:PUBLISH
X-WR-CALNAME:NYS Council for Community Behavioral Healthcare
X-ORIGINAL-URL:https://nyscouncil.org
X-WR-CALDESC:Events for NYS Council for Community Behavioral Healthcare
BEGIN:VTIMEZONE
TZID:America/New_York
BEGIN:DAYLIGHT
TZOFFSETFROM:-0500
TZOFFSETTO:-0400
TZNAME:EDT
DTSTART:20230312T070000
END:DAYLIGHT
BEGIN:STANDARD
TZOFFSETFROM:-0400
TZOFFSETTO:-0500
TZNAME:EST
DTSTART:20231105T060000
END:STANDARD
END:VTIMEZONE
BEGIN:VEVENT
DTSTART;TZID=America/New_York:20230310T123000
DTEND;TZID=America/New_York:20230310T140000
DTSTAMP:20260425T223317
CREATED:20230210T165726Z
LAST-MODIFIED:20230210T165805Z
UID:8321-1678451400-1678456800@nyscouncil.org
SUMMARY:PROS Redesign Participant Feedback Sessions - NYC
DESCRIPTION:The Office of Mental Health’s Office of Advocacy and Peer Support Services and the Office of Rehabilitation are holding Virtual Feedback Sessions around PROS (Personalized Recovery Oriented Services) so that we can hear your feedback related to redesigning and modernizing the PROS model. \nWe hope to capture feedback and ideas from individuals who are current or former participants of PROS and want to be inclusive of the diversity of all New Yorkers served by PROS programs. These feedback sessions are for current or former PROS participants only. \nPlease follow the link to register for the Virtual Feedback Session in your region\, we will be hosting three separate sessions in the following regions on the following dates: \nNew York City Session: March 10th 12:30 PM to 2:00 PM https://meetny.webex.com/weblink/register/r938e05598d09843fd988ff84597b9286
URL:https://nyscouncil.org/event/pros-redesign-participant-feedback-sessions-nyc/
END:VEVENT
END:VCALENDAR