BEGIN:VCALENDAR
VERSION:2.0
PRODID:-//NYS Council for Community Behavioral Healthcare - ECPv5.9.1//NONSGML v1.0//EN
CALSCALE:GREGORIAN
METHOD:PUBLISH
X-WR-CALNAME:NYS Council for Community Behavioral Healthcare
X-ORIGINAL-URL:https://nyscouncil.org
X-WR-CALDESC:Events for NYS Council for Community Behavioral Healthcare
BEGIN:VTIMEZONE
TZID:America/New_York
BEGIN:DAYLIGHT
TZOFFSETFROM:-0500
TZOFFSETTO:-0400
TZNAME:EDT
DTSTART:20240310T070000
END:DAYLIGHT
BEGIN:STANDARD
TZOFFSETFROM:-0400
TZOFFSETTO:-0500
TZNAME:EST
DTSTART:20241103T060000
END:STANDARD
END:VTIMEZONE
BEGIN:VEVENT
DTSTART;TZID=America/New_York:20240731T083000
DTEND;TZID=America/New_York:20240731T160000
DTSTAMP:20260422T061810
CREATED:20240604T163750Z
LAST-MODIFIED:20240604T163750Z
UID:12547-1722414600-1722441600@nyscouncil.org
SUMMARY:United Hospital Fund’s Annual Medicaid Conference
DESCRIPTION:Register Now: \nUnited Hospital Fund’s Annual\nMedicaid Conference \nMedicaid in New York 2024 Conference\nWednesday\, July 31\, 2024\n8:30 am – 4:00 pm \nIn-person at New York Bar Association\n42 W 44th Street\, New York\, NY\n-and-\nVirtual Live Webcast \nThe conference program will include:\n• Opening Keynote by New York State Medicaid Director Amir Bassiri\n• Maternal Child Health Panel Discussion\n• Fireside chat about integrating physical\, behavioral\, and social care \nPlease visit our website here for the full agenda \nThis event is made possible with support from:\nTHE COMMONWEALTH FUND\nUNITE US\nMOLINA HEALTHCARE\nACENTRA HEALTH\nIBM\nNYSTEC\nEQUIFAX/CARAHSOFT\nAdditional sponsorship opportunities available here \nRegistration is free for virtual attendance and $75 for in-person attendance.\nFree in-person tickets are available for federal\, state\, and local government employees\, Medicaid members\, students\, employees of community-based or non-profit organizations\, and members of the media\, thanks to generous support from The Commonwealth Fund. \n 
URL:https://nyscouncil.org/event/united-hospital-funds-annual-medicaid-conference-2/
END:VEVENT
END:VCALENDAR