BEGIN:VCALENDAR
VERSION:2.0
PRODID:-//NYS Council for Community Behavioral Healthcare - ECPv5.9.1//NONSGML v1.0//EN
CALSCALE:GREGORIAN
METHOD:PUBLISH
X-WR-CALNAME:NYS Council for Community Behavioral Healthcare
X-ORIGINAL-URL:https://nyscouncil.org
X-WR-CALDESC:Events for NYS Council for Community Behavioral Healthcare
BEGIN:VTIMEZONE
TZID:America/New_York
BEGIN:DAYLIGHT
TZOFFSETFROM:-0500
TZOFFSETTO:-0400
TZNAME:EDT
DTSTART:20250309T070000
END:DAYLIGHT
BEGIN:STANDARD
TZOFFSETFROM:-0400
TZOFFSETTO:-0500
TZNAME:EST
DTSTART:20251102T060000
END:STANDARD
END:VTIMEZONE
BEGIN:VEVENT
DTSTART;TZID=America/New_York:20250730T083000
DTEND;TZID=America/New_York:20250730T163000
DTSTAMP:20260426T024639
CREATED:20250723T193012Z
LAST-MODIFIED:20250723T193012Z
UID:15712-1753864200-1753893000@nyscouncil.org
SUMMARY:United Hospital Fund’s Annual Medicaid Conference
DESCRIPTION:United Hospital Fund’s Annual Medicaid Conference\nCelebrating Medicaid’s 60th Anniversary\n \nWednesday\, July 30\, 2025\n8:30 am – 4:30 pm\nNew York City Bar Association\n42 W 44th Street\, New York\, NY 10036 \nOpening Keynote from New York State Medicaid Director Amir Bassiri. \nMorning Panel Featuring: \n\nRobin Rudowitz\, Vice President and Director of the Program on Medicaid and the Uninsured at KFF\nLeighton Ku\, Professor and Director of the Center for Health Policy Research at George Washington University\nMargaret Murray\, CEO of the Association for Community Affiliated Plans\nKinda Serafi\, Partner at Manatt\, Phelps & Phillips\, LLP\n\nAfternoon Panel Featuring: \n\nChad Shearer\, Senior Vice President for Policy and Program at United Hospital Fund\nEmily Engel\, Director of the Bureau of Social Care and Community Supports at the Office of Health Insurance Programs\, New York State Department of Health\nSelena Hajiani\, Director of Strategic Operations and Planning for the Office of Health Insurance Programs at New York State Department of Health\nAmanda Lothrop\, Chief Operating Officer of New York State Medicaid\n\nClosing Keynote from former Director of the Center for Medicare and Medicaid Innovation\, Liz Fowler. \nIn-person attendance is fully sold out. \n\nIf you have already reserved an in-person seat but can no longer attend in-person\, please contact medicaidinstitute@uhfnyc.org so that we can offer your seat to another person.\nSeating is available in the large main room where speakers will present\, and in smaller side rooms that have tables and a live cast of the event. Seating in the large main room is available on a first-come\, first-served basis.\n\n\n\nFree virtual attendance via Zoom webinar is still available. \n\n\n\n\n\n\n\n\n\nRegister for Virtual Attendance\n\n\n\n\n\n\n\n\n\nMore information\, including the timed agenda\, can be found on our website here.
URL:https://nyscouncil.org/event/united-hospital-funds-annual-medicaid-conference-3/
END:VEVENT
END:VCALENDAR