BEGIN:VCALENDAR
VERSION:2.0
PRODID:-//NYS Council for Community Behavioral Healthcare - ECPv5.9.1//NONSGML v1.0//EN
CALSCALE:GREGORIAN
METHOD:PUBLISH
X-WR-CALNAME:NYS Council for Community Behavioral Healthcare
X-ORIGINAL-URL:https://nyscouncil.org
X-WR-CALDESC:Events for NYS Council for Community Behavioral Healthcare
BEGIN:VTIMEZONE
TZID:UTC
BEGIN:STANDARD
TZOFFSETFROM:+0000
TZOFFSETTO:+0000
TZNAME:UTC
DTSTART:20210101T000000
END:STANDARD
END:VTIMEZONE
BEGIN:VEVENT
DTSTART;TZID=UTC:20210715T093000
DTEND;TZID=UTC:20210715T160000
DTSTAMP:20260424T132205
CREATED:20210412T191714Z
LAST-MODIFIED:20210604T141040Z
UID:2599-1626341400-1626364800@nyscouncil.org
SUMMARY:United Hospital Fund’s Annual Medicaid Conference
DESCRIPTION:The 2021 Medicaid Conference will be presented as a live webcast\, from 9:30am to 4:00pm\, with a break for lunch. \nOpening Keynote: State of the State of New York Medicaid\nBrett Friedman\, Director of Strategic Initiatives and Special Medicaid Counsel in the Office of Health Insurance Programs\, New York State Department of Health \nPanel: Medicaid’s Role in Providing Holistic Health Care for People\nExperiencing Homelessness in New York\nModerator: Bonnie Mohan\, Executive Director\, The Health and Housing Consortium\, Inc. \nAfternoon Keynote: To Be Announced \nPanel: Addressing Community Needs through Medicaid\nCo-moderators: \nKishor Malavade\, MD\, Vice Chair and Chief Medical Officer of the Department of Family Health\, Maimonides Medical Center \nShari Suchoff\, Vice President\, Population Health Policy and Strategy\, Maimonides Medical Center \nMore information on our website here. \nContact: info@uhfnyc.org
URL:https://nyscouncil.org/event/united-hospital-funds-annual-medicaid-conference/
END:VEVENT
END:VCALENDAR